{
 "currentVersion": 10.91,
 "serviceDescription": "lidar/FirstReturnIntensity_2020",
 "name": "lidar/FirstReturnIntensity_2020",
 "description": "",
 "extent": {
  "xmin": 6052500,
  "ymin": 1770000,
  "xmax": 6370000,
  "ymax": 2017500,
  "spatialReference": {
   "wkid": 103005,
   "latestWkid": 6420
  }
 },
 "initialExtent": {
  "xmin": 6052500,
  "ymin": 1770000,
  "xmax": 6370000,
  "ymax": 2017500,
  "spatialReference": {
   "wkid": 103005,
   "latestWkid": 6420
  }
 },
 "fullExtent": {
  "xmin": 6052500,
  "ymin": 1770000,
  "xmax": 6370000,
  "ymax": 2017500,
  "spatialReference": {
   "wkid": 103005,
   "latestWkid": 6420
  }
 },
 "hasMultidimensions": false,
 "pixelSizeX": 1,
 "pixelSizeY": 1,
 "datasetFormat": "FGDBR",
 "uncompressedSize": 157162500000,
 "blockWidth": 128,
 "blockHeight": 128,
 "compressionType": "LZ77",
 "bandNames": [
  "Band_1"
 ],
 "allowCopy": true,
 "allowAnalysis": true,
 "bandCount": 1,
 "pixelType": "S16",
 "minPixelSize": 0,
 "maxPixelSize": 0,
 "copyrightText": "",
 "serviceDataType": "esriImageServiceDataTypeGeneric",
 "serviceSourceType": "esriImageServiceSourceTypeDataset",
 "minValues": [
  0
 ],
 "maxValues": [
  255
 ],
 "meanValues": [
  75.95173028339646
 ],
 "stdvValues": [
  78.89966356924057
 ],
 "objectIdField": "",
 "fields": [],
 "capabilities": "Image,Metadata,Mensuration",
 "defaultMosaicMethod": "Center",
 "allowedMosaicMethods": "",
 "sortField": "",
 "sortValue": null,
 "sortAscending": true,
 "mosaicOperator": "First",
 "defaultCompressionQuality": 75,
 "defaultResamplingMethod": "Bilinear",
 "maxImageHeight": 4100,
 "maxImageWidth": 15000,
 "allowRasterFunction": true,
 "rasterFunctionInfos": [
  {
   "name": "None",
   "description": "",
   "help": ""
  }
 ],
 "rasterTypeInfos": [
  {
   "name": "Raster Dataset",
   "description": "Supports all ArcGIS Raster Datasets",
   "help": ""
  }
 ],
 "mensurationCapabilities": "Basic",
 "hasHistograms": true,
 "hasColormap": false,
 "hasRasterAttributeTable": false,
 "minScale": 0,
 "maxScale": 0,
 "exportTilesAllowed": false,
 "supportsStatistics": false,
 "supportsAdvancedQueries": false,
 "editFieldsInfo": null,
 "ownershipBasedAccessControlForRasters": null,
 "allowComputeTiePoints": false,
 "useStandardizedQueries": true,
 "advancedQueryCapabilities": {
  "useStandardizedQueries": true,
  "supportsStatistics": false,
  "supportsOrderBy": false,
  "supportsDistinct": false,
  "supportsPagination": false
 },
 "spatialReference": {
  "wkid": 103005,
  "latestWkid": 6420
 }
}
