{
 "currentVersion": 10.91,
 "serviceDescription": "lidar/BareEarth_DEM_HydroFlattened_2020",
 "name": "lidar/BareEarth_DEM_HydroFlattened_2020",
 "description": "",
 "extent": {
  "xmin": 6052557.624205537,
  "ymin": 1771331.999999992,
  "xmax": 6368907.624205537,
  "ymax": 2016257.999999992,
  "spatialReference": {
   "wkid": 103005,
   "latestWkid": 6420,
   "vcsWkid": 105703,
   "latestVcsWkid": 6360
  }
 },
 "initialExtent": {
  "xmin": 6052557.624205537,
  "ymin": 1771331.999999992,
  "xmax": 6368907.624205537,
  "ymax": 2016257.999999992,
  "spatialReference": {
   "wkid": 103005,
   "latestWkid": 6420,
   "vcsWkid": 105703,
   "latestVcsWkid": 6360
  }
 },
 "fullExtent": {
  "xmin": 6052557.624205537,
  "ymin": 1771331.999999992,
  "xmax": 6368907.624205537,
  "ymax": 2016257.999999992,
  "spatialReference": {
   "wkid": 103005,
   "latestWkid": 6420,
   "vcsWkid": 105703,
   "latestVcsWkid": 6360
  }
 },
 "heightModelInfo": {
  "heightModel": "gravity_related_height",
  "vertCRS": "NAVD88 height (ftUS)",
  "heightUnit": "us-foot"
 },
 "hasMultidimensions": false,
 "pixelSizeX": 1,
 "pixelSizeY": 1,
 "datasetFormat": "FGDBR",
 "uncompressedSize": 309929360400,
 "blockWidth": 128,
 "blockHeight": 128,
 "compressionType": "LZ77",
 "bandNames": [
  "Band_1"
 ],
 "allowCopy": true,
 "allowAnalysis": true,
 "bandCount": 1,
 "pixelType": "F32",
 "minPixelSize": 0,
 "maxPixelSize": 0,
 "copyrightText": "",
 "serviceDataType": "esriImageServiceDataTypeGeneric",
 "serviceSourceType": "esriImageServiceSourceTypeDataset",
 "minValues": [
  -137.51089477539062
 ],
 "maxValues": [
  4385.3671875
 ],
 "meanValues": [
  1269.4942372472576
 ],
 "stdvValues": [
  954.371309703586
 ],
 "objectIdField": "",
 "fields": [],
 "capabilities": "Image,Metadata,Mensuration",
 "defaultMosaicMethod": "Center",
 "allowedMosaicMethods": "",
 "sortField": "",
 "sortValue": null,
 "sortAscending": true,
 "mosaicOperator": "First",
 "defaultCompressionQuality": 75,
 "defaultResamplingMethod": "Bilinear",
 "maxImageHeight": 4100,
 "maxImageWidth": 15000,
 "allowRasterFunction": true,
 "rasterFunctionInfos": [
  {
   "name": "None",
   "description": "",
   "help": ""
  }
 ],
 "rasterTypeInfos": [
  {
   "name": "Raster Dataset",
   "description": "Supports all ArcGIS Raster Datasets",
   "help": ""
  }
 ],
 "mensurationCapabilities": "Basic",
 "hasHistograms": true,
 "hasColormap": false,
 "hasRasterAttributeTable": false,
 "minScale": 0,
 "maxScale": 0,
 "exportTilesAllowed": false,
 "supportsStatistics": false,
 "supportsAdvancedQueries": false,
 "editFieldsInfo": null,
 "ownershipBasedAccessControlForRasters": null,
 "allowComputeTiePoints": false,
 "useStandardizedQueries": true,
 "advancedQueryCapabilities": {
  "useStandardizedQueries": true,
  "supportsStatistics": false,
  "supportsOrderBy": false,
  "supportsDistinct": false,
  "supportsPagination": false
 },
 "spatialReference": {
  "wkid": 103005,
  "latestWkid": 6420,
  "vcsWkid": 105703,
  "latestVcsWkid": 6360
 }
}
